BEGIN:VCALENDAR
VERSION:2.0
PRODID:-//Burnie Masonic Lodge - ECPv6.3.5//NONSGML v1.0//EN
CALSCALE:GREGORIAN
METHOD:PUBLISH
X-WR-CALNAME:Burnie Masonic Lodge
X-ORIGINAL-URL:https://freemasonsburnie.com
X-WR-CALDESC:Events for Burnie Masonic Lodge
REFRESH-INTERVAL;VALUE=DURATION:PT1H
X-Robots-Tag:noindex
X-PUBLISHED-TTL:PT1H
BEGIN:VTIMEZONE
TZID:UTC
BEGIN:STANDARD
TZOFFSETFROM:+0000
TZOFFSETTO:+0000
TZNAME:UTC
DTSTART:20210101T000000
END:STANDARD
END:VTIMEZONE
BEGIN:VEVENT
DTSTART;TZID=UTC:20211123T192000
DTEND;TZID=UTC:20211123T213000
DTSTAMP:20260423T160017
CREATED:20211015T054341Z
LAST-MODIFIED:20211015T054341Z
UID:478-1637695200-1637703000@freemasonsburnie.com
SUMMARY:Regular Meeting - Initiation of Mr Murray
DESCRIPTION:The initiation of Mr Jason Murray
URL:https://freemasonsburnie.com/event/regular-meeting-initiation-of-mr-murray/
END:VEVENT
END:VCALENDAR