BEGIN:VCALENDAR
VERSION:2.0
PRODID:-//Burnie Masonic Lodge - ECPv6.3.5//NONSGML v1.0//EN
CALSCALE:GREGORIAN
METHOD:PUBLISH
X-WR-CALNAME:Burnie Masonic Lodge
X-ORIGINAL-URL:https://freemasonsburnie.com
X-WR-CALDESC:Events for Burnie Masonic Lodge
REFRESH-INTERVAL;VALUE=DURATION:PT1H
X-Robots-Tag:noindex
X-PUBLISHED-TTL:PT1H
BEGIN:VTIMEZONE
TZID:UTC
BEGIN:STANDARD
TZOFFSETFROM:+0000
TZOFFSETTO:+0000
TZNAME:UTC
DTSTART:20210101T000000
END:STANDARD
END:VTIMEZONE
BEGIN:VEVENT
DTSTART;TZID=UTC:20211207T190000
DTEND;TZID=UTC:20211207T213000
DTSTAMP:20260423T160018
CREATED:20211015T054422Z
LAST-MODIFIED:20211015T054618Z
UID:480-1638903600-1638912600@freemasonsburnie.com
SUMMARY:Board of Management Meeting and Rehearsal
DESCRIPTION:Rehearsal TBA
URL:https://freemasonsburnie.com/event/board-of-management-meeting-and-rehearsal-2/
END:VEVENT
END:VCALENDAR