BEGIN:VCALENDAR
VERSION:2.0
PRODID:-//Burnie Masonic Lodge - ECPv6.3.5//NONSGML v1.0//EN
CALSCALE:GREGORIAN
METHOD:PUBLISH
X-WR-CALNAME:Burnie Masonic Lodge
X-ORIGINAL-URL:https://freemasonsburnie.com
X-WR-CALDESC:Events for Burnie Masonic Lodge
REFRESH-INTERVAL;VALUE=DURATION:PT1H
X-Robots-Tag:noindex
X-PUBLISHED-TTL:PT1H
BEGIN:VTIMEZONE
TZID:UTC
BEGIN:STANDARD
TZOFFSETFROM:+0000
TZOFFSETTO:+0000
TZNAME:UTC
DTSTART:20220101T000000
END:STANDARD
END:VTIMEZONE
BEGIN:VEVENT
DTSTART;TZID=UTC:20220315T190000
DTEND;TZID=UTC:20220315T210000
DTSTAMP:20260423T100230
CREATED:20220203T031546Z
LAST-MODIFIED:20220203T031546Z
UID:633-1647370800-1647378000@freemasonsburnie.com
SUMMARY:Rehearsal
DESCRIPTION:2nd Degree
URL:https://freemasonsburnie.com/event/rehearsal-2/
END:VEVENT
END:VCALENDAR