BEGIN:VCALENDAR
VERSION:2.0
PRODID:-//Burnie Masonic Lodge - ECPv6.3.5//NONSGML v1.0//EN
CALSCALE:GREGORIAN
METHOD:PUBLISH
X-ORIGINAL-URL:https://freemasonsburnie.com
X-WR-CALDESC:Events for Burnie Masonic Lodge
REFRESH-INTERVAL;VALUE=DURATION:PT1H
X-Robots-Tag:noindex
X-PUBLISHED-TTL:PT1H
BEGIN:VTIMEZONE
TZID:UTC
BEGIN:STANDARD
TZOFFSETFROM:+0000
TZOFFSETTO:+0000
TZNAME:UTC
DTSTART:20220101T000000
END:STANDARD
END:VTIMEZONE
BEGIN:VEVENT
DTSTART;TZID=UTC:20220326T080000
DTEND;TZID=UTC:20220326T170000
DTSTAMP:20260423T100223
CREATED:20211203T001335Z
LAST-MODIFIED:20211203T001335Z
UID:573-1648281600-1648314000@freemasonsburnie.com
SUMMARY:Mt Lyell Lodge Installation
DESCRIPTION:Rt W Bro David Greisbach\, the WM of Burnie Masonic Lodge will install the new master of Mt Lyell Lodge
URL:https://freemasonsburnie.com/event/mt-lyell-lodge-installation/
END:VEVENT
END:VCALENDAR