BEGIN:VCALENDAR
VERSION:2.0
PRODID:-//Burnie Masonic Lodge - ECPv6.3.5//NONSGML v1.0//EN
CALSCALE:GREGORIAN
METHOD:PUBLISH
X-ORIGINAL-URL:https://freemasonsburnie.com
X-WR-CALDESC:Events for Burnie Masonic Lodge
REFRESH-INTERVAL;VALUE=DURATION:PT1H
X-Robots-Tag:noindex
X-PUBLISHED-TTL:PT1H
BEGIN:VTIMEZONE
TZID:UTC
BEGIN:STANDARD
TZOFFSETFROM:+0000
TZOFFSETTO:+0000
TZNAME:UTC
DTSTART:20220101T000000
END:STANDARD
END:VTIMEZONE
BEGIN:VEVENT
DTSTART;TZID=UTC:20220405T190000
DTEND;TZID=UTC:20220405T200000
DTSTAMP:20260423T074002
CREATED:20220203T031714Z
LAST-MODIFIED:20220203T031714Z
UID:635-1649185200-1649188800@freemasonsburnie.com
SUMMARY:Board of Management Meeting
DESCRIPTION:
URL:https://freemasonsburnie.com/event/board-of-management-meeting-2/
END:VEVENT
BEGIN:VEVENT
DTSTART;TZID=UTC:20220405T200000
DTEND;TZID=UTC:20220405T213000
DTSTAMP:20260423T074002
CREATED:20220203T031855Z
LAST-MODIFIED:20220203T031855Z
UID:637-1649188800-1649194200@freemasonsburnie.com
SUMMARY:Rehearsal
DESCRIPTION:Vacant Chair
URL:https://freemasonsburnie.com/event/rehearsal-3/
END:VEVENT
END:VCALENDAR