BEGIN:VCALENDAR
VERSION:2.0
PRODID:-//Burnie Masonic Lodge - ECPv6.3.5//NONSGML v1.0//EN
CALSCALE:GREGORIAN
METHOD:PUBLISH
X-WR-CALNAME:Burnie Masonic Lodge
X-ORIGINAL-URL:https://freemasonsburnie.com
X-WR-CALDESC:Events for Burnie Masonic Lodge
REFRESH-INTERVAL;VALUE=DURATION:PT1H
X-Robots-Tag:noindex
X-PUBLISHED-TTL:PT1H
BEGIN:VTIMEZONE
TZID:UTC
BEGIN:STANDARD
TZOFFSETFROM:+0000
TZOFFSETTO:+0000
TZNAME:UTC
DTSTART:20220101T000000
END:STANDARD
END:VTIMEZONE
BEGIN:VEVENT
DTSTART;TZID=UTC:20220503T190000
DTEND;TZID=UTC:20220503T200000
DTSTAMP:20260423T053320
CREATED:20220203T032150Z
LAST-MODIFIED:20220203T032150Z
UID:643-1651604400-1651608000@freemasonsburnie.com
SUMMARY:Board of Management Meeting
DESCRIPTION:
URL:https://freemasonsburnie.com/event/board-of-management-meeting-3/
END:VEVENT
BEGIN:VEVENT
DTSTART;TZID=UTC:20220503T200000
DTEND;TZID=UTC:20220503T213000
DTSTAMP:20260423T053320
CREATED:20220203T032236Z
LAST-MODIFIED:20220203T032236Z
UID:645-1651608000-1651613400@freemasonsburnie.com
SUMMARY:Lodge of Instruction
DESCRIPTION:The 1st Degree
URL:https://freemasonsburnie.com/event/lodge-of-instruction/
END:VEVENT
END:VCALENDAR