BEGIN:VCALENDAR
VERSION:2.0
PRODID:-//Burnie Masonic Lodge - ECPv6.3.5//NONSGML v1.0//EN
CALSCALE:GREGORIAN
METHOD:PUBLISH
X-ORIGINAL-URL:https://freemasonsburnie.com
X-WR-CALDESC:Events for Burnie Masonic Lodge
REFRESH-INTERVAL;VALUE=DURATION:PT1H
X-Robots-Tag:noindex
X-PUBLISHED-TTL:PT1H
BEGIN:VTIMEZONE
TZID:UTC
BEGIN:STANDARD
TZOFFSETFROM:+0000
TZOFFSETTO:+0000
TZNAME:UTC
DTSTART:20220101T000000
END:STANDARD
END:VTIMEZONE
BEGIN:VEVENT
DTSTART;TZID=UTC:20220517T190000
DTEND;TZID=UTC:20220517T210000
DTSTAMP:20260423T053316
CREATED:20220203T032325Z
LAST-MODIFIED:20220508T095655Z
UID:647-1652814000-1652821200@freemasonsburnie.com
SUMMARY:Rehearsal 1st Degree
DESCRIPTION:
URL:https://freemasonsburnie.com/event/rehearsal-5/
END:VEVENT
END:VCALENDAR