BEGIN:VCALENDAR
VERSION:2.0
PRODID:-//Burnie Masonic Lodge - ECPv6.3.5//NONSGML v1.0//EN
CALSCALE:GREGORIAN
METHOD:PUBLISH
X-WR-CALNAME:Burnie Masonic Lodge
X-ORIGINAL-URL:https://freemasonsburnie.com
X-WR-CALDESC:Events for Burnie Masonic Lodge
REFRESH-INTERVAL;VALUE=DURATION:PT1H
X-Robots-Tag:noindex
X-PUBLISHED-TTL:PT1H
BEGIN:VTIMEZONE
TZID:UTC
BEGIN:STANDARD
TZOFFSETFROM:+0000
TZOFFSETTO:+0000
TZNAME:UTC
DTSTART:20220101T000000
END:STANDARD
END:VTIMEZONE
BEGIN:VEVENT
DTSTART;TZID=UTC:20220621T190000
DTEND;TZID=UTC:20220621T210000
DTSTAMP:20260423T053223
CREATED:20220203T033904Z
LAST-MODIFIED:20220508T100045Z
UID:679-1655838000-1655845200@freemasonsburnie.com
SUMMARY:Rehearsal Past Masters Night\, 1st Degree
DESCRIPTION:3rd Degree
URL:https://freemasonsburnie.com/event/rehearsal-6/
END:VEVENT
END:VCALENDAR