BEGIN:VCALENDAR
VERSION:2.0
PRODID:-//Burnie Masonic Lodge - ECPv6.3.5//NONSGML v1.0//EN
CALSCALE:GREGORIAN
METHOD:PUBLISH
X-ORIGINAL-URL:https://freemasonsburnie.com
X-WR-CALDESC:Events for Burnie Masonic Lodge
REFRESH-INTERVAL;VALUE=DURATION:PT1H
X-Robots-Tag:noindex
X-PUBLISHED-TTL:PT1H
BEGIN:VTIMEZONE
TZID:UTC
BEGIN:STANDARD
TZOFFSETFROM:+0000
TZOFFSETTO:+0000
TZNAME:UTC
DTSTART:20220101T000000
END:STANDARD
END:VTIMEZONE
BEGIN:VEVENT
DTSTART;TZID=UTC:20220705T190000
DTEND;TZID=UTC:20220705T200000
DTSTAMP:20260423T032529
CREATED:20220203T032903Z
LAST-MODIFIED:20220203T032903Z
UID:655-1657047600-1657051200@freemasonsburnie.com
SUMMARY:Board of Management Meeting
DESCRIPTION:
URL:https://freemasonsburnie.com/event/board-of-management-meeting-5/
END:VEVENT
BEGIN:VEVENT
DTSTART;TZID=UTC:20220705T200000
DTEND;TZID=UTC:20220705T213000
DTSTAMP:20260423T032529
CREATED:20220203T033451Z
LAST-MODIFIED:20220203T033451Z
UID:671-1657051200-1657056600@freemasonsburnie.com
SUMMARY:Lodge of Instruction
DESCRIPTION:2nd Degree
URL:https://freemasonsburnie.com/event/lodge-of-instruction-3/
END:VEVENT
END:VCALENDAR