BEGIN:VCALENDAR
VERSION:2.0
PRODID:-//Burnie Masonic Lodge - ECPv6.3.5//NONSGML v1.0//EN
CALSCALE:GREGORIAN
METHOD:PUBLISH
X-WR-CALNAME:Burnie Masonic Lodge
X-ORIGINAL-URL:https://freemasonsburnie.com
X-WR-CALDESC:Events for Burnie Masonic Lodge
REFRESH-INTERVAL;VALUE=DURATION:PT1H
X-Robots-Tag:noindex
X-PUBLISHED-TTL:PT1H
BEGIN:VTIMEZONE
TZID:UTC
BEGIN:STANDARD
TZOFFSETFROM:+0000
TZOFFSETTO:+0000
TZNAME:UTC
DTSTART:20220101T000000
END:STANDARD
END:VTIMEZONE
BEGIN:VEVENT
DTSTART;TZID=UTC:20220726T192000
DTEND;TZID=UTC:20220726T220000
DTSTAMP:20260423T032443
CREATED:20220203T034404Z
LAST-MODIFIED:20220508T100358Z
UID:689-1658863200-1658872800@freemasonsburnie.com
SUMMARY:Regular Meeting\, Past Masters Night
DESCRIPTION:Past Master’s Night – the 1st Degree
URL:https://freemasonsburnie.com/event/regular-meeting-5/
END:VEVENT
END:VCALENDAR