BEGIN:VCALENDAR
VERSION:2.0
PRODID:-//Burnie Masonic Lodge - ECPv6.3.5//NONSGML v1.0//EN
CALSCALE:GREGORIAN
METHOD:PUBLISH
X-ORIGINAL-URL:https://freemasonsburnie.com
X-WR-CALDESC:Events for Burnie Masonic Lodge
REFRESH-INTERVAL;VALUE=DURATION:PT1H
X-Robots-Tag:noindex
X-PUBLISHED-TTL:PT1H
BEGIN:VTIMEZONE
TZID:UTC
BEGIN:STANDARD
TZOFFSETFROM:+0000
TZOFFSETTO:+0000
TZNAME:UTC
DTSTART:20220101T000000
END:STANDARD
END:VTIMEZONE
BEGIN:VEVENT
DTSTART;TZID=UTC:20220823T192000
DTEND;TZID=UTC:20220823T220000
DTSTAMP:20260423T021436
CREATED:20220203T034452Z
LAST-MODIFIED:20220508T100555Z
UID:691-1661282400-1661292000@freemasonsburnie.com
SUMMARY:Regular Meeting\, 2nd Degree and Election of Officers
DESCRIPTION:
URL:https://freemasonsburnie.com/event/regular-meeting-6/
END:VEVENT
END:VCALENDAR