BEGIN:VCALENDAR
VERSION:2.0
PRODID:-//Burnie Masonic Lodge - ECPv6.3.5//NONSGML v1.0//EN
CALSCALE:GREGORIAN
METHOD:PUBLISH
X-ORIGINAL-URL:https://freemasonsburnie.com
X-WR-CALDESC:Events for Burnie Masonic Lodge
REFRESH-INTERVAL;VALUE=DURATION:PT1H
X-Robots-Tag:noindex
X-PUBLISHED-TTL:PT1H
BEGIN:VTIMEZONE
TZID:UTC
BEGIN:STANDARD
TZOFFSETFROM:+0000
TZOFFSETTO:+0000
TZNAME:UTC
DTSTART:20220101T000000
END:STANDARD
END:VTIMEZONE
BEGIN:VEVENT
DTSTART;TZID=UTC:20220906T190000
DTEND;TZID=UTC:20220906T200000
DTSTAMP:20260423T103045
CREATED:20220203T033019Z
LAST-MODIFIED:20220203T033019Z
UID:661-1662490800-1662494400@freemasonsburnie.com
SUMMARY:Board of Management Meeting
DESCRIPTION:
URL:https://freemasonsburnie.com/event/board-of-management-meeting-8/
END:VEVENT
BEGIN:VEVENT
DTSTART;TZID=UTC:20220906T200000
DTEND;TZID=UTC:20220906T213000
DTSTAMP:20260423T103045
CREATED:20220203T033628Z
LAST-MODIFIED:20220508T100629Z
UID:675-1662494400-1662499800@freemasonsburnie.com
SUMMARY:Lodge of Instruction\, 2nd Degree
DESCRIPTION:
URL:https://freemasonsburnie.com/event/lodge-of-instruction-5/
END:VEVENT
BEGIN:VEVENT
DTSTART;TZID=UTC:20220920T190000
DTEND;TZID=UTC:20220920T210000
DTSTAMP:20260423T103045
CREATED:20220203T034203Z
LAST-MODIFIED:20220203T034203Z
UID:685-1663700400-1663707600@freemasonsburnie.com
SUMMARY:Rehearsal
DESCRIPTION:3rd Degree
URL:https://freemasonsburnie.com/event/rehearsal-9/
END:VEVENT
BEGIN:VEVENT
DTSTART;TZID=UTC:20220927T192000
DTEND;TZID=UTC:20220927T220000
DTSTAMP:20260423T103045
CREATED:20220203T034538Z
LAST-MODIFIED:20220508T100713Z
UID:693-1664306400-1664316000@freemasonsburnie.com
SUMMARY:Regular Meeting\, Presentation of Jewels
DESCRIPTION:
URL:https://freemasonsburnie.com/event/regular-meeting-7/
END:VEVENT
BEGIN:VEVENT
DTSTART;TZID=UTC:20221004T190000
DTEND;TZID=UTC:20221004T200000
DTSTAMP:20260423T103045
CREATED:20220203T033154Z
LAST-MODIFIED:20220203T033154Z
UID:663-1664910000-1664913600@freemasonsburnie.com
SUMMARY:Board of Management Meeting
DESCRIPTION:
URL:https://freemasonsburnie.com/event/board-of-management-meeting-7/
END:VEVENT
BEGIN:VEVENT
DTSTART;TZID=UTC:20221004T190000
DTEND;TZID=UTC:20221004T210000
DTSTAMP:20260423T103045
CREATED:20220203T034635Z
LAST-MODIFIED:20220508T100749Z
UID:695-1664910000-1664917200@freemasonsburnie.com
SUMMARY:Emergency Meeting
DESCRIPTION:Rehearsal for Installation
URL:https://freemasonsburnie.com/event/emergency-meeting-2/
END:VEVENT
BEGIN:VEVENT
DTSTART;TZID=UTC:20221004T200000
DTEND;TZID=UTC:20221004T213000
DTSTAMP:20260423T103045
CREATED:20220203T033707Z
LAST-MODIFIED:20220203T033707Z
UID:677-1664913600-1664919000@freemasonsburnie.com
SUMMARY:Lodge of Instruction
DESCRIPTION:3rd Degree
URL:https://freemasonsburnie.com/event/lodge-of-instruction-6/
END:VEVENT
BEGIN:VEVENT
DTSTART;TZID=UTC:20221008T143000
DTEND;TZID=UTC:20221008T230000
DTSTAMP:20260423T103045
CREATED:20220203T034748Z
LAST-MODIFIED:20220508T100816Z
UID:697-1665239400-1665270000@freemasonsburnie.com
SUMMARY:Burnie Lodge Installation
DESCRIPTION:
URL:https://freemasonsburnie.com/event/installation-2/
END:VEVENT
BEGIN:VEVENT
DTSTART;TZID=UTC:20221015T143000
DTEND;TZID=UTC:20221015T180000
DTSTAMP:20260423T103045
CREATED:20220203T035025Z
LAST-MODIFIED:20220203T035138Z
UID:701-1665844200-1665856800@freemasonsburnie.com
SUMMARY:Roland Lodge Installation
DESCRIPTION:
URL:https://freemasonsburnie.com/event/roland-lodge/
END:VEVENT
BEGIN:VEVENT
DTSTART;TZID=UTC:20221101T190000
DTEND;TZID=UTC:20221101T200000
DTSTAMP:20260423T103045
CREATED:20220203T033245Z
LAST-MODIFIED:20220203T033245Z
UID:667-1667329200-1667332800@freemasonsburnie.com
SUMMARY:Board of Management Meeting
DESCRIPTION:
URL:https://freemasonsburnie.com/event/board-of-management-meeting-10/
END:VEVENT
BEGIN:VEVENT
DTSTART;TZID=UTC:20221119T143000
DTEND;TZID=UTC:20221119T180000
DTSTAMP:20260423T103045
CREATED:20220203T035109Z
LAST-MODIFIED:20220203T035109Z
UID:703-1668868200-1668880800@freemasonsburnie.com
SUMMARY:Lodge of Peace Installation
DESCRIPTION:
URL:https://freemasonsburnie.com/event/lodge-of-peace-installation/
END:VEVENT
BEGIN:VEVENT
DTSTART;TZID=UTC:20221122T193000
DTEND;TZID=UTC:20221122T220000
DTSTAMP:20260423T103045
CREATED:20221113T100811Z
LAST-MODIFIED:20221113T100811Z
UID:828-1669145400-1669154400@freemasonsburnie.com
SUMMARY:Regular Meeting - Raising of Bro Murray
DESCRIPTION:
URL:https://freemasonsburnie.com/event/regular-meeting-raising-of-bro-murray/
END:VEVENT
BEGIN:VEVENT
DTSTART;TZID=UTC:20231028T130000
DTEND;TZID=UTC:20231028T170000
DTSTAMP:20260423T103045
CREATED:20231023T120537Z
LAST-MODIFIED:20231023T120537Z
UID:870-1698498000-1698512400@freemasonsburnie.com
SUMMARY:Ceremony of Consecrating and Constituting an Consolidated Lodge
DESCRIPTION:Burnie Masonic and Emu Lodges are consolidating into Burnie Emu Masonic Lodge\, at the North West Masonic Centre. Followed by a banquet at the Cooee Bowls Club
URL:https://freemasonsburnie.com/event/ceremony-of-consecrating-and-constituting-an-consolidated-lodge/
LOCATION:Northwest Masonic Centre\, 108 Bird Street\, Burnie\, Tasmania\, 7316\, Australia
END:VEVENT
BEGIN:VEVENT
DTSTART;TZID=UTC:20231114T193000
DTEND;TZID=UTC:20231114T223000
DTSTAMP:20260423T103045
CREATED:20231023T120706Z
LAST-MODIFIED:20231023T120706Z
UID:873-1699990200-1700001000@freemasonsburnie.com
SUMMARY:First Regular Meeting of Burnie Emu Masonic Lodge
DESCRIPTION:Labour of the evening will be the Vacant Chair for Remembrance Day
URL:https://freemasonsburnie.com/event/first-regular-meeting-of-burnie-emu-masonic-lodge/
END:VEVENT
END:VCALENDAR