BEGIN:VCALENDAR
VERSION:2.0
PRODID:-//Burnie Masonic Lodge - ECPv6.3.5//NONSGML v1.0//EN
CALSCALE:GREGORIAN
METHOD:PUBLISH
X-WR-CALNAME:Burnie Masonic Lodge
X-ORIGINAL-URL:https://freemasonsburnie.com
X-WR-CALDESC:Events for Burnie Masonic Lodge
REFRESH-INTERVAL;VALUE=DURATION:PT1H
X-Robots-Tag:noindex
X-PUBLISHED-TTL:PT1H
BEGIN:VTIMEZONE
TZID:UTC
BEGIN:STANDARD
TZOFFSETFROM:+0000
TZOFFSETTO:+0000
TZNAME:UTC
DTSTART:20220101T000000
END:STANDARD
END:VTIMEZONE
BEGIN:VEVENT
DTSTART;TZID=UTC:20220118T190000
DTEND;TZID=UTC:20220118T210000
DTSTAMP:20260423T133230
CREATED:20211017T002921Z
LAST-MODIFIED:20211017T002921Z
UID:488-1642532400-1642539600@freemasonsburnie.com
SUMMARY:Rehearsal Jan 22
DESCRIPTION:
URL:https://freemasonsburnie.com/event/rehearsal-jan-22/
END:VEVENT
BEGIN:VEVENT
DTSTART;TZID=UTC:20220125T192000
DTEND;TZID=UTC:20220125T220000
DTSTAMP:20260423T133230
CREATED:20211017T002739Z
LAST-MODIFIED:20211017T002739Z
UID:484-1643138400-1643148000@freemasonsburnie.com
SUMMARY:Regular Meeting Jan 22
DESCRIPTION:
URL:https://freemasonsburnie.com/event/regular-meeting-jan-22/
END:VEVENT
BEGIN:VEVENT
DTSTART;TZID=UTC:20220130T080000
DTEND;TZID=UTC:20220130T170000
DTSTAMP:20260423T133230
CREATED:20211203T001029Z
LAST-MODIFIED:20211203T001029Z
UID:568-1643529600-1643562000@freemasonsburnie.com
SUMMARY:Bunnings Sausage Sizzle
DESCRIPTION:The Burnie Masonic Lodge will be conducting a Sausage Sizzle at the Bunnings Burnie Store to raise funds to support the Lodge’s scholarships.
URL:https://freemasonsburnie.com/event/bunnings-sausage-sizzle/
LOCATION:Bunnings Burnie\, Burnie\, Australia
END:VEVENT
END:VCALENDAR