BEGIN:VCALENDAR
VERSION:2.0
PRODID:-//Burnie Masonic Lodge - ECPv6.3.5//NONSGML v1.0//EN
CALSCALE:GREGORIAN
METHOD:PUBLISH
X-WR-CALNAME:Burnie Masonic Lodge
X-ORIGINAL-URL:https://freemasonsburnie.com
X-WR-CALDESC:Events for Burnie Masonic Lodge
REFRESH-INTERVAL;VALUE=DURATION:PT1H
X-Robots-Tag:noindex
X-PUBLISHED-TTL:PT1H
BEGIN:VTIMEZONE
TZID:UTC
BEGIN:STANDARD
TZOFFSETFROM:+0000
TZOFFSETTO:+0000
TZNAME:UTC
DTSTART:20220101T000000
END:STANDARD
END:VTIMEZONE
BEGIN:VEVENT
DTSTART;TZID=UTC:20220201T190000
DTEND;TZID=UTC:20220201T210000
DTSTAMP:20260423T100228
CREATED:20211017T002840Z
LAST-MODIFIED:20211017T002840Z
UID:486-1643742000-1643749200@freemasonsburnie.com
SUMMARY:Board of Management Meeting and Rehearsal - Feb 22
DESCRIPTION:
URL:https://freemasonsburnie.com/event/board-of-management-meeting-and-rehearsal-feb-22/
END:VEVENT
BEGIN:VEVENT
DTSTART;TZID=UTC:20220213T123000
DTEND;TZID=UTC:20220213T160000
DTSTAMP:20260423T100228
CREATED:20220203T030610Z
LAST-MODIFIED:20220203T030610Z
UID:621-1644755400-1644768000@freemasonsburnie.com
SUMMARY:Lodge BBQ
DESCRIPTION:The annual Burnie Lodge BBQ – at Jenny’s Place
URL:https://freemasonsburnie.com/event/lodge-bbq/
END:VEVENT
BEGIN:VEVENT
DTSTART;TZID=UTC:20220215T190000
DTEND;TZID=UTC:20220215T210000
DTSTAMP:20260423T100228
CREATED:20211017T003008Z
LAST-MODIFIED:20220203T030755Z
UID:490-1644951600-1644958800@freemasonsburnie.com
SUMMARY:Rehearsal Feb 22
DESCRIPTION:2nd Degree
URL:https://freemasonsburnie.com/event/rehearsal-feb-22/
END:VEVENT
BEGIN:VEVENT
DTSTART;TZID=UTC:20220220T080000
DTEND;TZID=UTC:20220220T170000
DTSTAMP:20260423T100228
CREATED:20211203T001151Z
LAST-MODIFIED:20211203T001151Z
UID:571-1645344000-1645376400@freemasonsburnie.com
SUMMARY:Bunnings Sausage Sizzle
DESCRIPTION:The Burnie Masonic Lodge will be conducting a Sausage Sizzle at the Bunnings Burnie Store to raise funds for the Lodge’s scholarships
URL:https://freemasonsburnie.com/event/bunnings-sausage-sizzle-2/
END:VEVENT
BEGIN:VEVENT
DTSTART;TZID=UTC:20220222T192000
DTEND;TZID=UTC:20220222T220000
DTSTAMP:20260423T100228
CREATED:20211017T003052Z
LAST-MODIFIED:20220203T030857Z
UID:492-1645557600-1645567200@freemasonsburnie.com
SUMMARY:Regular Meeting Feb 22
DESCRIPTION:Presentation on the Powers of the Worshipful Master
URL:https://freemasonsburnie.com/event/regular-meeting-feb-22/
END:VEVENT
BEGIN:VEVENT
DTSTART;TZID=UTC:20220223T190000
DTEND;TZID=UTC:20220223T210000
DTSTAMP:20260423T100228
CREATED:20211017T003542Z
LAST-MODIFIED:20211017T003542Z
UID:502-1645642800-1645650000@freemasonsburnie.com
SUMMARY:1st Degree MEAP Session
DESCRIPTION:Via ZOOM
URL:https://freemasonsburnie.com/event/1st-degree-meap-session/
END:VEVENT
BEGIN:VEVENT
DTSTART;TZID=UTC:20220226T080000
DTEND;TZID=UTC:20220226T170000
DTSTAMP:20260423T100228
CREATED:20211203T001830Z
LAST-MODIFIED:20211203T001830Z
UID:583-1645862400-1645894800@freemasonsburnie.com
SUMMARY:Grand Lodge Communications (North)
DESCRIPTION:
URL:https://freemasonsburnie.com/event/grand-lodge-communications-north/
END:VEVENT
END:VCALENDAR